Package: MicrobiomeProfiler Version: 1.15.0 Command: /Library/Frameworks/R.framework/Resources/bin/R CMD INSTALL MicrobiomeProfiler StartedAt: 2025-10-19 15:25:04 -0400 (Sun, 19 Oct 2025) EndedAt: 2025-10-19 15:25:14 -0400 (Sun, 19 Oct 2025) EllapsedTime: 9.6 seconds RetCode: 0 Status: OK