Package: MiRaGE Version: 1.51.0 Command: /home/biocbuild/R/R/bin/R CMD build --keep-empty-dirs --no-resave-data MiRaGE StartedAt: 2025-10-17 02:42:59 -0000 (Fri, 17 Oct 2025) EndedAt: 2025-10-17 02:44:14 -0000 (Fri, 17 Oct 2025) EllapsedTime: 75.0 seconds RetCode: 0 Status: OK PackageFile: MiRaGE_1.51.0.tar.gz PackageFileSize: 1.301 MiB