Package: MiRaGE Version: 1.51.0 Command: rm -rf MiRaGE.buildbin-libdir && mkdir MiRaGE.buildbin-libdir && F:\biocbuild\bbs-3.22-bioc\R\bin\R.exe CMD INSTALL --build --library=MiRaGE.buildbin-libdir MiRaGE_1.51.0.tar.gz StartedAt: 2025-08-15 10:42:44 -0400 (Fri, 15 Aug 2025) EndedAt: 2025-08-15 10:43:01 -0400 (Fri, 15 Aug 2025) EllapsedTime: 17.2 seconds RetCode: 0 Status: OK PackageFile: MiRaGE_1.51.0.zip PackageFileSize: 1.206 MiB