Package: MiPP Version: 1.81.0 Command: /Library/Frameworks/R.framework/Resources/bin/R CMD check --install=check:MiPP.install-out.txt --library=/Library/Frameworks/R.framework/Resources/library --no-vignettes --timings MiPP_1.81.0.tar.gz StartedAt: 2025-10-02 22:46:49 -0400 (Thu, 02 Oct 2025) EndedAt: 2025-10-02 22:48:24 -0400 (Thu, 02 Oct 2025) EllapsedTime: 95.1 seconds RetCode: 0 Status: OK CheckDir: MiPP.Rcheck Warnings: 0