Package: MiPP Version: 1.81.0 Command: /Library/Frameworks/R.framework/Resources/bin/R CMD build --keep-empty-dirs --no-resave-data MiPP StartedAt: 2025-10-02 17:49:38 -0400 (Thu, 02 Oct 2025) EndedAt: 2025-10-02 17:49:52 -0400 (Thu, 02 Oct 2025) EllapsedTime: 13.7 seconds RetCode: 0 Status: OK PackageFile: MiPP_1.81.0.tar.gz PackageFileSize: 409.5 KiB