Package: MiChip Version: 1.64.0 Command: /Library/Frameworks/R.framework/Resources/bin/R CMD INSTALL MiChip StartedAt: 2025-10-31 15:23:24 -0400 (Fri, 31 Oct 2025) EndedAt: 2025-10-31 15:23:29 -0400 (Fri, 31 Oct 2025) EllapsedTime: 5.6 seconds RetCode: 0 Status: OK