Package: MiChip Version: 1.64.0 Command: /Library/Frameworks/R.framework/Resources/bin/R CMD build --keep-empty-dirs --no-resave-data MiChip StartedAt: 2025-11-02 17:47:35 -0500 (Sun, 02 Nov 2025) EndedAt: 2025-11-02 17:47:52 -0500 (Sun, 02 Nov 2025) EllapsedTime: 17.1 seconds RetCode: 0 Status: OK PackageFile: MiChip_1.64.0.tar.gz PackageFileSize: 669 KiB