Package: Mfuzz Version: 2.69.0 Command: /Library/Frameworks/R.framework/Resources/bin/R CMD check --install=check:Mfuzz.install-out.txt --library=/Library/Frameworks/R.framework/Resources/library --no-vignettes --timings Mfuzz_2.69.0.tar.gz StartedAt: 2025-10-16 20:40:31 -0400 (Thu, 16 Oct 2025) EndedAt: 2025-10-16 20:40:52 -0400 (Thu, 16 Oct 2025) EllapsedTime: 21.3 seconds RetCode: 0 Status: OK CheckDir: Mfuzz.Rcheck Warnings: 0