Package: Mfuzz Version: 2.69.0 Command: /Library/Frameworks/R.framework/Resources/bin/R CMD build --keep-empty-dirs --no-resave-data Mfuzz StartedAt: 2025-10-16 17:13:18 -0400 (Thu, 16 Oct 2025) EndedAt: 2025-10-16 17:13:30 -0400 (Thu, 16 Oct 2025) EllapsedTime: 12.2 seconds RetCode: 0 Status: OK PackageFile: Mfuzz_2.69.0.tar.gz PackageFileSize: 820 KiB