Package: MethylMix Version: 2.39.0 Command: /home/biocbuild/R/R/bin/R CMD INSTALL MethylMix StartedAt: 2025-10-23 20:24:25 -0000 (Thu, 23 Oct 2025) EndedAt: 2025-10-23 20:24:47 -0000 (Thu, 23 Oct 2025) EllapsedTime: 21.8 seconds RetCode: 0 Status: OK