Package: MethylMix Version: 2.39.0 Command: /Library/Frameworks/R.framework/Resources/bin/R CMD build --keep-empty-dirs --no-resave-data MethylMix StartedAt: 2025-10-23 17:37:51 -0400 (Thu, 23 Oct 2025) EndedAt: 2025-10-23 17:38:23 -0400 (Thu, 23 Oct 2025) EllapsedTime: 32.0 seconds RetCode: 0 Status: OK PackageFile: MethylMix_2.39.0.tar.gz PackageFileSize: 2.576 MiB