Package: MethylAid Version: 1.43.0 Command: /home/biocbuild/R/R/bin/R CMD check --install=check:MethylAid.install-out.txt --library=/home/biocbuild/R/R/site-library --no-vignettes --timings MethylAid_1.43.0.tar.gz StartedAt: 2025-10-17 10:53:14 -0000 (Fri, 17 Oct 2025) EndedAt: 2025-10-17 11:05:47 -0000 (Fri, 17 Oct 2025) EllapsedTime: 752.6 seconds RetCode: 0 Status: OK CheckDir: MethylAid.Rcheck Warnings: 0