Package: MethylAid Version: 1.43.0 Command: /home/biocbuild/bbs-3.22-bioc/R/bin/R CMD INSTALL MethylAid StartedAt: 2025-10-14 15:41:49 -0400 (Tue, 14 Oct 2025) EndedAt: 2025-10-14 15:42:38 -0400 (Tue, 14 Oct 2025) EllapsedTime: 48.9 seconds RetCode: 0 Status: OK