Package: MethylAid Version: 1.43.0 Command: /home/biocbuild/bbs-3.22-bioc/R/bin/R CMD check --install=check:MethylAid.install-out.txt --library=/home/biocbuild/bbs-3.22-bioc/R/site-library --timings MethylAid_1.43.0.tar.gz StartedAt: 2025-10-15 01:36:50 -0400 (Wed, 15 Oct 2025) EndedAt: 2025-10-15 01:48:13 -0400 (Wed, 15 Oct 2025) EllapsedTime: 682.6 seconds RetCode: 0 Status: OK CheckDir: MethylAid.Rcheck Warnings: 0