Package: MethylAid Version: 1.43.0 Command: /home/biocbuild/bbs-3.22-bioc/R/bin/R CMD build --keep-empty-dirs --no-resave-data --md5 MethylAid StartedAt: 2025-10-14 18:34:43 -0400 (Tue, 14 Oct 2025) EndedAt: 2025-10-14 18:36:59 -0400 (Tue, 14 Oct 2025) EllapsedTime: 136.1 seconds RetCode: 0 Status: OK PackageFile: MethylAid_1.43.0.tar.gz PackageFileSize: 3.015 MiB