Package: MethylAid Version: 1.43.0 Command: /Library/Frameworks/R.framework/Resources/bin/R CMD INSTALL MethylAid StartedAt: 2025-10-03 15:22:01 -0400 (Fri, 03 Oct 2025) EndedAt: 2025-10-03 15:22:21 -0400 (Fri, 03 Oct 2025) EllapsedTime: 20.7 seconds RetCode: 0 Status: OK