Package: MethylAid Version: 1.43.0 Command: rm -rf MethylAid.buildbin-libdir && mkdir MethylAid.buildbin-libdir && /Users/biocbuild/BBS/utils/build-universal.sh MethylAid_1.43.0.tar.gz /Library/Frameworks/R.framework/Resources/bin/R MethylAid.buildbin-libdir StartedAt: 2025-10-02 23:09:57 -0400 (Thu, 02 Oct 2025) EndedAt: 2025-10-02 23:10:19 -0400 (Thu, 02 Oct 2025) EllapsedTime: 21.4 seconds RetCode: 0 Status: OK PackageFile: MethylAid_1.43.0.tgz PackageFileSize: 3.275 MiB