Package: MethylAid Version: 1.44.0 Command: /Library/Frameworks/R.framework/Resources/bin/R CMD build --keep-empty-dirs --no-resave-data MethylAid StartedAt: 2025-11-21 04:50:54 -0500 (Fri, 21 Nov 2025) EndedAt: 2025-11-21 04:55:35 -0500 (Fri, 21 Nov 2025) EllapsedTime: 281.2 seconds RetCode: 0 Status: OK PackageFile: MethylAid_1.44.0.tar.gz PackageFileSize: 3.013 MiB