Package: MethTargetedNGS Version: 1.41.0 Command: /home/biocbuild/R/R/bin/R CMD INSTALL MethTargetedNGS StartedAt: 2025-10-16 22:14:55 -0000 (Thu, 16 Oct 2025) EndedAt: 2025-10-16 22:15:11 -0000 (Thu, 16 Oct 2025) EllapsedTime: 15.3 seconds RetCode: 0 Status: OK