Package: MethTargetedNGS Version: 1.41.0 Command: /home/biocbuild/R/R/bin/R CMD build --keep-empty-dirs --no-resave-data MethTargetedNGS StartedAt: 2025-10-17 02:33:22 -0000 (Fri, 17 Oct 2025) EndedAt: 2025-10-17 02:33:49 -0000 (Fri, 17 Oct 2025) EllapsedTime: 27.0 seconds RetCode: 0 Status: OK PackageFile: MethTargetedNGS_1.41.0.tar.gz PackageFileSize: 271.6 KiB