Package: MethTargetedNGS Version: 1.41.0 Command: /Library/Frameworks/R.framework/Resources/bin/R CMD check --install=check:MethTargetedNGS.install-out.txt --library=/Library/Frameworks/R.framework/Resources/library --no-vignettes --timings MethTargetedNGS_1.41.0.tar.gz StartedAt: 2025-10-19 23:40:47 -0400 (Sun, 19 Oct 2025) EndedAt: 2025-10-19 23:42:48 -0400 (Sun, 19 Oct 2025) EllapsedTime: 121.3 seconds RetCode: 0 Status: OK CheckDir: MethTargetedNGS.Rcheck Warnings: 0