Package: MethTargetedNGS Version: 1.41.0 Command: rm -rf MethTargetedNGS.buildbin-libdir && mkdir MethTargetedNGS.buildbin-libdir && /Users/biocbuild/BBS/utils/build-universal.sh MethTargetedNGS_1.41.0.tar.gz /Library/Frameworks/R.framework/Resources/bin/R MethTargetedNGS.buildbin-libdir StartedAt: 2025-10-20 03:18:12 -0400 (Mon, 20 Oct 2025) EndedAt: 2025-10-20 03:18:31 -0400 (Mon, 20 Oct 2025) EllapsedTime: 19.7 seconds RetCode: 0 Status: OK PackageFile: MethTargetedNGS_1.41.0.tgz PackageFileSize: 322.9 KiB