Package: MethReg Version: 1.19.0 Command: /home/biocbuild/R/R/bin/R CMD build --keep-empty-dirs --no-resave-data MethReg StartedAt: 2025-10-17 02:32:32 -0000 (Fri, 17 Oct 2025) EndedAt: 2025-10-17 02:44:53 -0000 (Fri, 17 Oct 2025) EllapsedTime: 741.2 seconds RetCode: 0 Status: OK PackageFile: MethReg_1.19.0.tar.gz PackageFileSize: 4.323 MiB