Package: MethReg Version: 1.19.0 Command: F:\biocbuild\bbs-3.22-bioc\R\bin\R.exe CMD check --no-multiarch --install=check:MethReg.install-out.txt --library=F:\biocbuild\bbs-3.22-bioc\R\library --no-vignettes --timings MethReg_1.19.0.tar.gz StartedAt: 2025-08-15 04:59:15 -0400 (Fri, 15 Aug 2025) EndedAt: 2025-08-15 05:09:39 -0400 (Fri, 15 Aug 2025) EllapsedTime: 623.2 seconds RetCode: 0 Status: OK CheckDir: MethReg.Rcheck Warnings: 0