Package: MethReg Version: 1.19.0 Command: /home/biocbuild/bbs-3.22-bioc/R/bin/R CMD INSTALL MethReg StartedAt: 2025-10-19 15:54:14 -0400 (Sun, 19 Oct 2025) EndedAt: 2025-10-19 15:55:04 -0400 (Sun, 19 Oct 2025) EllapsedTime: 50.0 seconds RetCode: 0 Status: OK