Package: MethReg Version: 1.19.0 Command: /home/biocbuild/bbs-3.22-bioc/R/bin/R CMD check --install=check:MethReg.install-out.txt --library=/home/biocbuild/bbs-3.22-bioc/R/site-library --timings MethReg_1.19.0.tar.gz StartedAt: 2025-10-20 01:45:41 -0400 (Mon, 20 Oct 2025) EndedAt: 2025-10-20 02:01:30 -0400 (Mon, 20 Oct 2025) EllapsedTime: 948.7 seconds RetCode: 0 Status: OK CheckDir: MethReg.Rcheck Warnings: 0