Package: MethReg Version: 1.19.0 Command: /Library/Frameworks/R.framework/Resources/bin/R CMD check --install=check:MethReg.install-out.txt --library=/Library/Frameworks/R.framework/Resources/library --no-vignettes --timings MethReg_1.19.0.tar.gz StartedAt: 2025-10-19 23:40:32 -0400 (Sun, 19 Oct 2025) EndedAt: 2025-10-19 23:49:16 -0400 (Sun, 19 Oct 2025) EllapsedTime: 524.6 seconds RetCode: 0 Status: OK CheckDir: MethReg.Rcheck Warnings: 0