Package: MethReg Version: 1.19.0 Command: /Library/Frameworks/R.framework/Resources/bin/R CMD build --keep-empty-dirs --no-resave-data MethReg StartedAt: 2025-10-19 18:00:17 -0400 (Sun, 19 Oct 2025) EndedAt: 2025-10-19 18:30:52 -0400 (Sun, 19 Oct 2025) EllapsedTime: 1835.3 seconds RetCode: 0 Status: OK PackageFile: MethReg_1.19.0.tar.gz PackageFileSize: 5.387 MiB