Package: MethReg Version: 1.19.0 Command: rm -rf MethReg.buildbin-libdir && mkdir MethReg.buildbin-libdir && /Users/biocbuild/BBS/utils/build-universal.sh MethReg_1.19.0.tar.gz /Library/Frameworks/R.framework/Resources/bin/R MethReg.buildbin-libdir StartedAt: 2025-10-20 03:18:11 -0400 (Mon, 20 Oct 2025) EndedAt: 2025-10-20 03:19:23 -0400 (Mon, 20 Oct 2025) EllapsedTime: 72.9 seconds RetCode: 0 Status: OK PackageFile: MethReg_1.19.0.tgz PackageFileSize: 4.516 MiB