Package: MetaPhOR Version: 1.11.0 Command: /Library/Frameworks/R.framework/Resources/bin/R CMD build --keep-empty-dirs --no-resave-data MetaPhOR StartedAt: 2025-10-16 18:26:20 -0400 (Thu, 16 Oct 2025) EndedAt: 2025-10-16 18:55:11 -0400 (Thu, 16 Oct 2025) EllapsedTime: 1730.9 seconds RetCode: 0 Status: OK PackageFile: MetaPhOR_1.11.0.tar.gz PackageFileSize: 2.739 MiB