Package: MetaPhOR Version: 1.11.0 Command: rm -rf MetaPhOR.buildbin-libdir && mkdir MetaPhOR.buildbin-libdir && /Users/biocbuild/BBS/utils/build-universal.sh MetaPhOR_1.11.0.tar.gz /Library/Frameworks/R.framework/Resources/bin/R MetaPhOR.buildbin-libdir StartedAt: 2025-10-17 03:59:12 -0400 (Fri, 17 Oct 2025) EndedAt: 2025-10-17 03:59:53 -0400 (Fri, 17 Oct 2025) EllapsedTime: 41.5 seconds RetCode: 0 Status: OK PackageFile: MetaPhOR_1.11.0.tgz PackageFileSize: 2.768 MiB