Package: MetaPhOR Version: 1.12.0 Command: /Library/Frameworks/R.framework/Resources/bin/R CMD build --keep-empty-dirs --no-resave-data MetaPhOR StartedAt: 2025-11-10 16:56:47 -0500 (Mon, 10 Nov 2025) EndedAt: 2025-11-10 17:02:32 -0500 (Mon, 10 Nov 2025) EllapsedTime: 344.9 seconds RetCode: 0 Status: OK PackageFile: MetaPhOR_1.12.0.tar.gz PackageFileSize: 2.744 MiB