Package: MetaDICT Version: 1.0.0 Command: /home/biocbuild/R/R/bin/R CMD INSTALL MetaDICT StartedAt: 2025-11-13 21:13:58 -0000 (Thu, 13 Nov 2025) EndedAt: 2025-11-13 21:14:28 -0000 (Thu, 13 Nov 2025) EllapsedTime: 29.9 seconds RetCode: 0 Status: OK