Package: MetaDICT Version: 1.0.0 Command: /home/biocbuild/R/R/bin/R CMD check --install=check:MetaDICT.install-out.txt --library=/home/biocbuild/R/R/site-library --no-vignettes --timings MetaDICT_1.0.0.tar.gz StartedAt: 2025-11-14 11:18:17 -0000 (Fri, 14 Nov 2025) EndedAt: 2025-11-14 11:24:14 -0000 (Fri, 14 Nov 2025) EllapsedTime: 356.4 seconds RetCode: 0 Status: OK CheckDir: MetaDICT.Rcheck Warnings: 0