Package: MetaDICT Version: 1.0.0 Command: /Library/Frameworks/R.framework/Resources/bin/R CMD check --install=check:MetaDICT.install-out.txt --library=/Library/Frameworks/R.framework/Resources/library --no-vignettes --timings MetaDICT_1.0.0.tar.gz StartedAt: 2025-11-10 20:53:48 -0500 (Mon, 10 Nov 2025) EndedAt: 2025-11-10 20:55:30 -0500 (Mon, 10 Nov 2025) EllapsedTime: 102.2 seconds RetCode: 0 Status: OK CheckDir: MetaDICT.Rcheck Warnings: 0