Package: MetMashR Version: 1.3.3 Command: /home/biocbuild/R/R/bin/R CMD INSTALL MetMashR StartedAt: 2025-10-20 20:46:53 -0000 (Mon, 20 Oct 2025) EndedAt: 2025-10-20 20:47:36 -0000 (Mon, 20 Oct 2025) EllapsedTime: 43.0 seconds RetCode: 0 Status: OK