Package: MetMashR Version: 1.3.3 Command: /home/biocbuild/R/R/bin/R CMD check --install=check:MetMashR.install-out.txt --library=/home/biocbuild/R/R/site-library --no-vignettes --timings MetMashR_1.3.3.tar.gz StartedAt: 2025-10-17 10:57:31 -0000 (Fri, 17 Oct 2025) EndedAt: 2025-10-17 11:01:58 -0000 (Fri, 17 Oct 2025) EllapsedTime: 267.2 seconds RetCode: 0 Status: OK CheckDir: MetMashR.Rcheck Warnings: 0