Package: MetMashR Version: 1.3.3 Command: /home/biocbuild/R/R/bin/R CMD build --keep-empty-dirs --no-resave-data MetMashR StartedAt: 2025-10-17 02:38:06 -0000 (Fri, 17 Oct 2025) EndedAt: 2025-10-17 02:45:16 -0000 (Fri, 17 Oct 2025) EllapsedTime: 430.2 seconds RetCode: 0 Status: OK PackageFile: MetMashR_1.3.3.tar.gz PackageFileSize: 5.654 MiB