Package: MetMashR Version: 1.3.3 Command: /home/biocbuild/bbs-3.22-bioc/R/bin/R CMD INSTALL MetMashR StartedAt: 2025-10-19 15:32:52 -0400 (Sun, 19 Oct 2025) EndedAt: 2025-10-19 15:33:24 -0400 (Sun, 19 Oct 2025) EllapsedTime: 32.1 seconds RetCode: 0 Status: OK