Package: MetMashR Version: 1.3.3 Command: /Library/Frameworks/R.framework/Resources/bin/R CMD check --install=check:MetMashR.install-out.txt --library=/Library/Frameworks/R.framework/Resources/library --no-vignettes --timings MetMashR_1.3.3.tar.gz StartedAt: 2025-10-20 23:46:25 -0400 (Mon, 20 Oct 2025) EndedAt: 2025-10-20 23:50:49 -0400 (Mon, 20 Oct 2025) EllapsedTime: 263.8 seconds RetCode: 0 Status: OK CheckDir: MetMashR.Rcheck Warnings: 0