Package: MetMashR Version: 1.3.3 Command: /Library/Frameworks/R.framework/Resources/bin/R CMD INSTALL MetMashR StartedAt: 2025-10-19 15:17:59 -0400 (Sun, 19 Oct 2025) EndedAt: 2025-10-19 15:18:11 -0400 (Sun, 19 Oct 2025) EllapsedTime: 12.5 seconds RetCode: 0 Status: OK