Package: MetMashR Version: 1.3.3 Maintainer: Gavin Rhys Lloyd MaintainerEmail: g.r.lloyd at bham.ac.uk git_url: https://git.bioconductor.org/packages/MetMashR git_branch: devel git_last_commit: 38b08fe git_last_commit_date: 2025-10-02 10:11:10 -0400 (Thu, 02 Oct 2025)