Package: MetID Version: 1.27.0 Command: chmod a+r MetID -R && F:\biocbuild\bbs-3.22-bioc\R\bin\R.exe CMD build --keep-empty-dirs --no-resave-data MetID StartedAt: 2025-08-14 21:25:23 -0400 (Thu, 14 Aug 2025) EndedAt: 2025-08-14 21:26:03 -0400 (Thu, 14 Aug 2025) EllapsedTime: 39.2 seconds RetCode: 0 Status: OK PackageFile: MetID_1.27.0.tar.gz PackageFileSize: 1.504 MiB