Package: MetID Version: 1.27.0 Command: /home/biocbuild/bbs-3.22-bioc/R/bin/R CMD check --install=check:MetID.install-out.txt --library=/home/biocbuild/bbs-3.22-bioc/R/site-library --timings MetID_1.27.0.tar.gz StartedAt: 2025-10-23 01:49:03 -0400 (Thu, 23 Oct 2025) EndedAt: 2025-10-23 01:50:47 -0400 (Thu, 23 Oct 2025) EllapsedTime: 104.1 seconds RetCode: 0 Status: OK CheckDir: MetID.Rcheck Warnings: 0