Package: MetID Version: 1.27.0 Command: /Library/Frameworks/R.framework/Resources/bin/R CMD INSTALL MetID StartedAt: 2025-10-22 15:15:19 -0400 (Wed, 22 Oct 2025) EndedAt: 2025-10-22 15:15:34 -0400 (Wed, 22 Oct 2025) EllapsedTime: 14.4 seconds RetCode: 0 Status: OK