Package: MetID Version: 1.27.0 Command: rm -rf MetID.buildbin-libdir && mkdir MetID.buildbin-libdir && /Users/biocbuild/BBS/utils/build-universal.sh MetID_1.27.0.tar.gz /Library/Frameworks/R.framework/Resources/bin/R MetID.buildbin-libdir StartedAt: 2025-10-22 02:33:52 -0400 (Wed, 22 Oct 2025) EndedAt: 2025-10-22 02:34:11 -0400 (Wed, 22 Oct 2025) EllapsedTime: 18.4 seconds RetCode: 0 Status: OK PackageFile: MetID_1.27.0.tgz PackageFileSize: 1.733 MiB