Package: MetID Version: 1.27.0 Command: /Library/Frameworks/R.framework/Resources/bin/R CMD INSTALL MetID StartedAt: 2025-10-22 15:07:25 -0400 (Wed, 22 Oct 2025) EndedAt: 2025-10-22 15:07:29 -0400 (Wed, 22 Oct 2025) EllapsedTime: 4.6 seconds RetCode: 0 Status: OK