Package: MetCirc Version: 1.39.0 Command: /home/biocbuild/bbs-3.22-bioc/R/bin/R CMD build --keep-empty-dirs --no-resave-data --md5 MetCirc StartedAt: 2025-10-19 18:33:45 -0400 (Sun, 19 Oct 2025) EndedAt: 2025-10-19 18:34:46 -0400 (Sun, 19 Oct 2025) EllapsedTime: 61.0 seconds RetCode: 0 Status: OK PackageFile: MetCirc_1.39.0.tar.gz PackageFileSize: 2.069 MiB