Package: MetCirc Version: 1.39.0 Command: /Library/Frameworks/R.framework/Resources/bin/R CMD check --install=check:MetCirc.install-out.txt --library=/Library/Frameworks/R.framework/Resources/library --no-vignettes --timings MetCirc_1.39.0.tar.gz StartedAt: 2025-10-19 23:39:43 -0400 (Sun, 19 Oct 2025) EndedAt: 2025-10-19 23:43:56 -0400 (Sun, 19 Oct 2025) EllapsedTime: 253.2 seconds RetCode: 0 Status: OK CheckDir: MetCirc.Rcheck Warnings: 0