Package: MesKit Version: 1.19.0 Command: rm -rf MesKit.buildbin-libdir && mkdir MesKit.buildbin-libdir && F:\biocbuild\bbs-3.22-bioc\R\bin\R.exe CMD INSTALL --build --library=MesKit.buildbin-libdir MesKit_1.19.0.tar.gz StartedAt: 2025-08-15 10:39:13 -0400 (Fri, 15 Aug 2025) EndedAt: 2025-08-15 10:40:03 -0400 (Fri, 15 Aug 2025) EllapsedTime: 50.2 seconds RetCode: 0 Status: OK PackageFile: MesKit_1.19.0.zip PackageFileSize: 2.661 MiB